BEGIN:VCALENDAR
BEGIN:VEVENT
SUMMARY:Funeral notice for WALTON\, Gary John
DTSTART:20260422T000000
DTEND:20260423T000000
DTSTAMP:20260424T033242Z
UID:6355024
DESCRIPTION:For the Funeral time and location details\, please view the no
 tice on the My Tributes site. (https://www.seymourtelegraph.com.au/tribute
 s/notice/funeral-notices/walton-gary-john/6355024/)
END:VEVENT
END:VCALENDAR
