BEGIN:VCALENDAR
BEGIN:VEVENT
SUMMARY:Funeral notice for ARBON\, Christine Anne (nee Tobiasen)
DTSTART:20260427T000000
DTEND:20260428T000000
DTSTAMP:20260423T224226Z
UID:6354973
DESCRIPTION:For the Funeral time and location details\, please view the no
 tice on the My Tributes site. (https://www.seymourtelegraph.com.au/tribute
 s/notice/funeral-notices/arbon-christine-anne-nee-tobiasen/6354973/)
END:VEVENT
END:VCALENDAR
