BEGIN:VCALENDAR
BEGIN:VEVENT
SUMMARY:Funeral notice for NANCE\, Hilda June
DTSTART:20260423T000000
DTEND:20260424T000000
DTSTAMP:20260422T091745Z
UID:6354789
DESCRIPTION:For the Funeral time and location details\, please view the no
 tice on the My Tributes site. (https://www.seymourtelegraph.com.au/tribute
 s/notice/funeral-notices/nance-hilda-june/6354789/)
END:VEVENT
END:VCALENDAR
