BEGIN:VCALENDAR
BEGIN:VEVENT
SUMMARY:Funeral notice for ERNST\, William Hermann "Bill"
DTSTART:20260424T000000
DTEND:20260425T000000
DTSTAMP:20260422T083438Z
UID:6354610
DESCRIPTION:For the Funeral time and location details\, please view the no
 tice on the My Tributes site. (https://www.seymourtelegraph.com.au/tribute
 s/notice/funeral-notices/ernst-william-hermann-bill/6354610/)
END:VEVENT
END:VCALENDAR
