BEGIN:VCALENDAR
BEGIN:VEVENT
SUMMARY:Funeral notice for WHITE (NEE SPURIN)\, Sheila Ellen
DTSTART:20260422T000000
DTEND:20260423T000000
DTSTAMP:20260424T050536Z
UID:6354597
DESCRIPTION:For the Funeral time and location details\, please view the no
 tice on the My Tributes site. (https://www.seymourtelegraph.com.au/tribute
 s/notice/funeral-notices/white-nee-spurin-sheila-ellen/6354597/)
END:VEVENT
END:VCALENDAR
