BEGIN:VCALENDAR
BEGIN:VEVENT
SUMMARY:Funeral notice for HOPWOOD\, David John
DTSTART:20260424T000000
DTEND:20260425T000000
DTSTAMP:20260423T134620Z
UID:6354584
DESCRIPTION:For the Funeral time and location details\, please view the no
 tice on the My Tributes site. (https://www.seymourtelegraph.com.au/tribute
 s/notice/funeral-notices/hopwood-david-john/6354584/)
END:VEVENT
END:VCALENDAR
