BEGIN:VCALENDAR
BEGIN:VEVENT
SUMMARY:Funeral notice for TIMMS\, Christopher Peregrine
DTSTART:20260423T000000
DTEND:20260424T000000
DTSTAMP:20260422T040454Z
UID:6354570
DESCRIPTION:For the Funeral time and location details\, please view the no
 tice on the My Tributes site. (https://www.seymourtelegraph.com.au/tribute
 s/notice/funeral-notices/timms-christopher-peregrine/6354570/)
END:VEVENT
END:VCALENDAR
