BEGIN:VCALENDAR
BEGIN:VEVENT
SUMMARY:Funeral notice for HAMBLING\, Ken
DTSTART:20260424T000000
DTEND:20260425T000000
DTSTAMP:20260423T005332Z
UID:6354555
DESCRIPTION:For the Funeral time and location details\, please view the no
 tice on the My Tributes site. (https://www.seymourtelegraph.com.au/tribute
 s/notice/funeral-notices/hambling-ken/6354555/)
END:VEVENT
END:VCALENDAR
