BEGIN:VCALENDAR
BEGIN:VEVENT
SUMMARY:Funeral notice for ARCIDIACONO\, Joseph John
DTSTART:20260429T000000
DTEND:20260430T000000
DTSTAMP:20260422T134434Z
UID:6354537
DESCRIPTION:For the Funeral time and location details\, please view the no
 tice on the My Tributes site. (https://www.seymourtelegraph.com.au/tribute
 s/notice/funeral-notices/arcidiacono-joseph-john/6354537/)
END:VEVENT
END:VCALENDAR
