BEGIN:VCALENDAR
BEGIN:VEVENT
SUMMARY:Funeral notice for ROBERTS\, Gregory David
DTSTART:20260424T000000
DTEND:20260425T000000
DTSTAMP:20260424T035345Z
UID:6354493
DESCRIPTION:For the Funeral time and location details\, please view the no
 tice on the My Tributes site. (https://www.seymourtelegraph.com.au/tribute
 s/notice/funeral-notices/roberts-gregory-david/6354493/)
END:VEVENT
END:VCALENDAR
