BEGIN:VCALENDAR
BEGIN:VEVENT
SUMMARY:Funeral notice for PAVIA\, Mario
DTSTART:20260423T000000
DTEND:20260424T000000
DTSTAMP:20260426T023858Z
UID:6354453
DESCRIPTION:For the Funeral time and location details\, please view the no
 tice on the My Tributes site. (https://www.seymourtelegraph.com.au/tribute
 s/notice/funeral-notices/pavia-mario/6354453/)
END:VEVENT
END:VCALENDAR
