BEGIN:VCALENDAR
BEGIN:VEVENT
SUMMARY:Funeral notice for CLARKE\, Donald Frank
DTSTART:20260427T000000
DTEND:20260428T000000
DTSTAMP:20260420T213237Z
UID:6354389
DESCRIPTION:For the Funeral time and location details\, please view the no
 tice on the My Tributes site. (https://www.seymourtelegraph.com.au/tribute
 s/notice/funeral-notices/clarke-donald-frank/6354389/)
END:VEVENT
END:VCALENDAR
