BEGIN:VCALENDAR
BEGIN:VEVENT
SUMMARY:Funeral notice for HURLEY (NEE EDWARDS)\, Elaine Margaret
DTSTART:20260424T000000
DTEND:20260425T000000
DTSTAMP:20260424T210303Z
UID:6354326
DESCRIPTION:For the Funeral time and location details\, please view the no
 tice on the My Tributes site. (https://www.seymourtelegraph.com.au/tribute
 s/notice/funeral-notices/hurley-nee-edwards-elaine-margaret/6354326/)
END:VEVENT
END:VCALENDAR
