BEGIN:VCALENDAR
BEGIN:VEVENT
SUMMARY:Funeral notice for ROCHESTER\, Stuart Thomas
DTSTART:20260429T000000
DTEND:20260430T000000
DTSTAMP:20260424T010849Z
UID:6354298
DESCRIPTION:For the Funeral time and location details\, please view the no
 tice on the My Tributes site. (https://www.seymourtelegraph.com.au/tribute
 s/notice/funeral-notices/rochester-stuart-thomas/6354298/)
END:VEVENT
END:VCALENDAR
