BEGIN:VCALENDAR
BEGIN:VEVENT
SUMMARY:Funeral notice for GREEN\, Bernard
DTSTART:20260421T000000
DTEND:20260422T000000
DTSTAMP:20260422T132138Z
UID:6354236
DESCRIPTION:For the Funeral time and location details\, please view the no
 tice on the My Tributes site. (https://www.seymourtelegraph.com.au/tribute
 s/notice/funeral-notices/green-bernard/6354236/)
END:VEVENT
END:VCALENDAR
