BEGIN:VCALENDAR
BEGIN:VEVENT
SUMMARY:Funeral notice for GATTO\, Orsula Maria
DTSTART:20260428T000000
DTEND:20260429T000000
DTSTAMP:20260426T045731Z
UID:6354205
DESCRIPTION:For the Funeral time and location details\, please view the no
 tice on the My Tributes site. (https://www.seymourtelegraph.com.au/tribute
 s/notice/funeral-notices/gatto-orsula-maria/6354205/)
END:VEVENT
END:VCALENDAR
