BEGIN:VCALENDAR
BEGIN:VEVENT
SUMMARY:Funeral notice for MACMILLAN\, Kerryn Anne
DTSTART:20260423T000000
DTEND:20260424T000000
DTSTAMP:20260421T213204Z
UID:6354198
DESCRIPTION:For the Funeral time and location details\, please view the no
 tice on the My Tributes site. (https://www.seymourtelegraph.com.au/tribute
 s/notice/funeral-notices/macmillan-kerryn-anne/6354198/)
END:VEVENT
END:VCALENDAR
