BEGIN:VCALENDAR
BEGIN:VEVENT
SUMMARY:Funeral notice for HOLDING\, Allan John
DTSTART:20260422T000000
DTEND:20260423T000000
DTSTAMP:20260426T020246Z
UID:6354140
DESCRIPTION:For the Funeral time and location details\, please view the no
 tice on the My Tributes site. (https://www.seymourtelegraph.com.au/tribute
 s/notice/funeral-notices/holding-allan-john/6354140/)
END:VEVENT
END:VCALENDAR
