BEGIN:VCALENDAR
BEGIN:VEVENT
SUMMARY:Funeral notice for CERRO-OATES\, Urbicia
DTSTART:20260424T000000
DTEND:20260425T000000
DTSTAMP:20260422T134301Z
UID:6354096
DESCRIPTION:For the Funeral time and location details\, please view the no
 tice on the My Tributes site. (https://www.seymourtelegraph.com.au/tribute
 s/notice/funeral-notices/cerro-oates-urbicia/6354096/)
END:VEVENT
END:VCALENDAR
