BEGIN:VCALENDAR
BEGIN:VEVENT
SUMMARY:Funeral notice for WALKER\, Graham John
DTSTART:20260424T000000
DTEND:20260425T000000
DTSTAMP:20260425T215312Z
UID:6354058
DESCRIPTION:For the Funeral time and location details\, please view the no
 tice on the My Tributes site. (https://www.seymourtelegraph.com.au/tribute
 s/notice/funeral-notices/walker-graham-john/6354058/)
END:VEVENT
END:VCALENDAR
