BEGIN:VCALENDAR
BEGIN:VEVENT
SUMMARY:Funeral notice for WINDER\, Barbara Joan
DTSTART:20260423T000000
DTEND:20260424T000000
DTSTAMP:20260421T002022Z
UID:6354002
DESCRIPTION:For the Funeral time and location details\, please view the no
 tice on the My Tributes site. (https://www.seymourtelegraph.com.au/tribute
 s/notice/funeral-notices/winder-barbara-joan/6354002/)
END:VEVENT
END:VCALENDAR
