BEGIN:VCALENDAR
BEGIN:VEVENT
SUMMARY:Funeral notice for SPEE\, Hendrika Antonia Johanna
DTSTART:20260421T000000
DTEND:20260422T000000
DTSTAMP:20260421T151525Z
UID:6353836
DESCRIPTION:For the Funeral time and location details\, please view the no
 tice on the My Tributes site. (https://www.seymourtelegraph.com.au/tribute
 s/notice/funeral-notices/spee-hendrika-antonia-johanna/6353836/)
END:VEVENT
END:VCALENDAR
