BEGIN:VCALENDAR
BEGIN:VEVENT
SUMMARY:Funeral notice for ZAHORUJKO\, Ihor (Ian / Ziggy)
DTSTART:20260422T000000
DTEND:20260423T000000
DTSTAMP:20260423T001225Z
UID:6353536
DESCRIPTION:For the Funeral time and location details\, please view the no
 tice on the My Tributes site. (https://www.seymourtelegraph.com.au/tribute
 s/notice/funeral-notices/zahorujko-ihor-ian-ziggy/6353536/)
END:VEVENT
END:VCALENDAR
