BEGIN:VCALENDAR
BEGIN:VEVENT
SUMMARY:Funeral notice for SMITH (NEE GOURLEY FORMERLY MCKINLAY)\, Sandra
DTSTART:20260413T000000
DTEND:20260414T000000
DTSTAMP:20260421T001954Z
UID:6353381
DESCRIPTION:For the Funeral time and location details\, please view the no
 tice on the My Tributes site. (https://www.seymourtelegraph.com.au/tribute
 s/notice/funeral-notices/smith-nee-gourley-formerly-mckinlay-sandra/635338
 1/)
END:VEVENT
END:VCALENDAR
