BEGIN:VCALENDAR
BEGIN:VEVENT
SUMMARY:Funeral notice for MCMILLAN\, Noel
DTSTART:20260416T000000
DTEND:20260417T000000
DTSTAMP:20260425T002322Z
UID:6353235
DESCRIPTION:For the Funeral time and location details\, please view the no
 tice on the My Tributes site. (https://www.seymourtelegraph.com.au/tribute
 s/notice/funeral-notices/mcmillan-noel/6353235/)
END:VEVENT
END:VCALENDAR
