BEGIN:VCALENDAR
BEGIN:VEVENT
SUMMARY:Funeral notice for KELLY\, James
DTSTART:20260410T000000
DTEND:20260411T000000
DTSTAMP:20260425T222137Z
UID:6352595
DESCRIPTION:For the Funeral time and location details\, please view the no
 tice on the My Tributes site. (https://www.seymourtelegraph.com.au/tribute
 s/notice/funeral-notices/kelly-james/6352595/)
END:VEVENT
END:VCALENDAR
